BEGIN:VCALENDAR
VERSION:2.0
PRODID:-//ChamberMaster//Event Calendar 2.0//EN
METHOD:PUBLISH
X-PUBLISHED-TTL:P1H
REFRESH-INTERVAL:P1H
CALSCALE:GREGORIAN
BEGIN:VTIMEZONE
TZID:America/New_York
BEGIN:DAYLIGHT
RRULE:FREQ=YEARLY;BYMONTH=3;BYDAY=2SU
DTSTART:20070101T000000
TZOFFSETFROM:-0500
TZOFFSETTO:-0400
TZNAME:Eastern Daylight Time
END:DAYLIGHT
BEGIN:STANDARD
RRULE:FREQ=YEARLY;BYMONTH=11;BYDAY=1SU
DTSTART:20070101T000000
TZOFFSETFROM:-0400
TZOFFSETTO:-0500
TZNAME:Eastern Standard Time
END:STANDARD
END:VTIMEZONE
BEGIN:VEVENT
DTSTART;TZID=America/New_York:20260609T090000
DTEND;TZID=America/New_York:20260609T130000
X-MICROSOFT-CDO-ALLDAYEVENT:FALSE
SUMMARY:CE - Elective - 10 Things You Need to Know About Land
DESCRIPTION:This is not your ordinary CE course. This course is designed to take you through the steps to thoroughly research a property by showing you how and where to locate critical information about a property\, whether raw undeveloped land or existing property with a structure. Developed for the residential agent\, this course is good for anyone. From learning the GIS\, water and sewer\, soils\, and survey to understanding what the steps are to develop a property. At the end of this course\, you will have a comfort level to move forward with land opportunities when they come your way. Cheryl Sain is a Certified Distance Educator Instructor (CDEI). Cheryl has firsthand experience in land and lot listings\, sales\, and purchases. Cheryl is a broker\, investor\, trainer\, and author\, with 20+ years of experience in the industry. This course includes topics such as: -Who are the legal owners of a property -Understanding Deeds -What are surveys and why is a survey important And moreInstructor: Cheryl SainCourse: CEE 40904-hour Elective CreditATTENDANCE POLICY: Any registrant arriving more than 10 minutes after the seminar begins will not be issued a certificate of completion. Any registrant who does not stay for the entire seminar or who takes excessive breaks will not be issued a certificate of completion. CANCELLATIONS\, TRANSFERS & REFUNDS: Deadline to cancel or transfer registrations is two working days prior to the event. After deadline\, no refunds will be given. COURSE CANCELLATION: GGAR reserves the right to cancel a course if there is not a minimum number of students. If an emergency warrants the rescheduling of a course\, all possible care will be taken to advise you as soon as possible and monies will be refunded to registrants. Our courses are offered to anyone regardless of race\, color\, religion\, sex\, national origin\, familial status\, or handicap
X-ALT-DESC;FMTTYPE=text/html:<!DOCTYPE html><html><head><title></title></head><body aria-disabled="false"><p>This is not your ordinary CE course. This course is designed to take you through the steps to thoroughly research a property by showing you how and where to locate critical information about a property\, whether raw undeveloped land or existing property with a structure.&nbsp\;</p><p>Developed for the residential agent\, this course is good for anyone. From learning the GIS\, water and sewer\, soils\, and survey to understanding what the steps are to develop a property. At the end of this course\, you will have a comfort level to move forward with land opportunities when they come your way.&nbsp\;</p><p>Cheryl Sain is a Certified Distance Educator Instructor (CDEI). Cheryl has firsthand experience in land and lot listings\, sales\, and purchases. Cheryl is a broker\, investor\, trainer\, and author\, with 20+ years of experience in the industry.&nbsp\;</p><p>This course includes topics such as:&nbsp\;</p><p>-Who are the legal owners of a property&nbsp\;</p><p>-Understanding Deeds&nbsp\;</p><p>-What are surveys and why is a survey important&nbsp\;</p><p>And more</p><p>Instructor: Cheryl Sain</p><p>Course: CEE 4090</p><p>4-hour Elective Credit</p><p><span style="color: rgb(118\, 118\, 118)\; font-family: Roboto\, sans-serif\; font-size: 12px\; font-style: normal\; font-variant-ligatures: normal\; font-variant-caps: normal\; font-weight: 400\; letter-spacing: 0.5px\; orphans: 2\; text-align: start\; text-indent: 0px\; text-transform: none\; widows: 2\; word-spacing: 0px\; -webkit-text-stroke-width: 0px\; white-space: normal\; background-color: rgb(255\, 255\, 255)\; text-decoration-thickness: initial\; text-decoration-style: initial\; text-decoration-color: initial\; display: inline !important\; float: none\;">ATTENDANCE POLICY: Any registrant arriving more than 10 minutes after the seminar begins will not be issued a certificate of completion. Any registrant who does not stay for the entire seminar or who takes excessive breaks will not be issued a certificate of completion. CANCELLATIONS\, TRANSFERS &amp\; REFUNDS: Deadline to cancel or transfer registrations is two working days prior to the event. After deadline\, no refunds will be given. COURSE CANCELLATION: GGAR reserves the right to cancel a course if there is not a minimum number of students. If an emergency warrants the rescheduling of a course\, all possible care will be taken to advise you as soon as possible and monies will be refunded to registrants. Our courses are offered to anyone regardless of race\, color\, religion\, sex\, national origin\, familial status\, or handicap</span></p></body></html>
LOCATION:50 Airpark Ct Greenville SC 29607
UID:e.3170.1412657
SEQUENCE:3
DTSTAMP:20260422T082431Z
URL:https://greatergreenvilleassociationofrealtors.growthzoneapp.com/association-events/Details/ce-elective-10-things-you-need-to-know-about-land-1669463?sourceTypeId=Hub
END:VEVENT
END:VCALENDAR
