BEGIN:VCALENDAR
VERSION:2.0
PRODID:-//ChamberMaster//Event Calendar 2.0//EN
METHOD:PUBLISH
X-PUBLISHED-TTL:P1H
REFRESH-INTERVAL:P1H
CALSCALE:GREGORIAN
BEGIN:VTIMEZONE
TZID:America/New_York
BEGIN:DAYLIGHT
RRULE:FREQ=YEARLY;BYMONTH=3;BYDAY=2SU
DTSTART:20070101T000000
TZOFFSETFROM:-0500
TZOFFSETTO:-0400
TZNAME:Eastern Daylight Time
END:DAYLIGHT
BEGIN:STANDARD
RRULE:FREQ=YEARLY;BYMONTH=11;BYDAY=1SU
DTSTART:20070101T000000
TZOFFSETFROM:-0400
TZOFFSETTO:-0500
TZNAME:Eastern Standard Time
END:STANDARD
END:VTIMEZONE
BEGIN:VEVENT
DTSTART;TZID=America/New_York:20260506T100000
DTEND;TZID=America/New_York:20260506T120000
X-MICROSOFT-CDO-ALLDAYEVENT:FALSE
SUMMARY:Lunch & Learn - Manufactured Housing Foundations & Appraisals: Requirements & Red Flags
DESCRIPTION:Join home inspector Dave Adams and appraiser Chris White\, for a practical\, real-world conversation about what actually makes these deals work--and what causes them to fall apart.Foundation certificationscrawlspace & structural nuancesThe most common inspection-related red flagsHome manufactured homes are approached from an appraisal standpointWhat impacts value (and what doesn't)The appraisal surprises that can derail financing
X-ALT-DESC;FMTTYPE=text/html:<!DOCTYPE html><html><head><title></title></head><body aria-disabled="false"><p>Join home inspector Dave Adams and appraiser Chris White\, for a practical\, real-world conversation about what actually makes these deals work--and what causes them to fall apart.</p><ul fr-original-style="" style="list-style-position: inside\;"><li>Foundation certifications</li><li>crawlspace &amp\; structural nuances</li><li>The most common inspection-related red flags</li><li>Home manufactured homes are approached from an appraisal standpoint</li><li>What impacts value (and what doesn&#39\;t)</li><li>The appraisal surprises that can derail financing</li></ul></body></html>
LOCATION:50 Airpark Court Greenville 29607
UID:e.3170.1445438
SEQUENCE:3
DTSTAMP:20260422T023127Z
URL:https://greatergreenvilleassociationofrealtors.growthzoneapp.com/association-events/Details/lunch-learn-manufactured-housing-foundations-appraisals-requirements-red-flags-1712033?sourceTypeId=Hub
END:VEVENT
END:VCALENDAR
