BEGIN:VCALENDAR
VERSION:2.0
PRODID:-//ChamberMaster//Event Calendar 2.0//EN
METHOD:PUBLISH
X-PUBLISHED-TTL:P1H
REFRESH-INTERVAL:P1H
CALSCALE:GREGORIAN
BEGIN:VTIMEZONE
TZID:America/New_York
BEGIN:DAYLIGHT
RRULE:FREQ=YEARLY;BYMONTH=3;BYDAY=2SU
DTSTART:20070101T000000
TZOFFSETFROM:-0500
TZOFFSETTO:-0400
TZNAME:Eastern Daylight Time
END:DAYLIGHT
BEGIN:STANDARD
RRULE:FREQ=YEARLY;BYMONTH=11;BYDAY=1SU
DTSTART:20070101T000000
TZOFFSETFROM:-0400
TZOFFSETTO:-0500
TZNAME:Eastern Standard Time
END:STANDARD
END:VTIMEZONE
BEGIN:VEVENT
DTSTART;TZID=America/New_York:20260924T163000
DTEND;TZID=America/New_York:20260924T183000
X-MICROSOFT-CDO-ALLDAYEVENT:FALSE
SUMMARY:Battle of the Brokerages
DESCRIPTION:Join us for a night of music\, laughter and friendly competition at the CII Karaoke Showdown! \nWatch local brokerages battle it out on stage\, competing for the top spot with their best vocal performances and team energy   we will feature both a crowd favorite and a judge's favorite award!If you are interested in or need assistance setting up your team - please reach out to Jennifer.Mullinax@ggar.com.All proceeds benefit ReBuild Upstate!   "Returning dignity\, safety\, & stability to our neighbors through home preservation."
X-ALT-DESC;FMTTYPE=text/html:<!DOCTYPE html><html><head><title></title></head><body aria-disabled="false"><p><span style="color: rgb(0\, 0\, 0)\; caret-color: rgb(255\, 255\, 255)\; --Ys-XuQ: none\; font-weight: 400\; font-style: normal\; font-kerning: normal\;">Join us for a night of music\, laughter and friendly competition at the CII Karaoke Showdown!</span><span style="color: rgb(0\, 0\, 0)\;"><span style="caret-color: rgb(255\, 255\, 255)\; --Ys-XuQ: none\; font-weight: 400\; font-style: normal\; font-kerning: normal\;">&nbsp\;</span></span><span style="color: rgb(0\, 0\, 0)\;"><br></span></p><p><span style="color: rgb(0\, 0\, 0)\;"><span style="caret-color: rgb(255\, 255\, 255)\; --Ys-XuQ: none\; font-weight: 400\; font-style: normal\; font-kerning: normal\;"><span style="caret-color: rgb(255\, 255\, 255)\; --Ys-XuQ: none\; font-weight: 400\; font-style: normal\; font-kerning: normal\;">Watch local brokerages battle it out on stage\, competing for the top spot with their best vocal performances and team energy &mdash\; we will feature both a crowd favorite and a judge&#39\;s favorite award!</span></span></span></p><p><span style="color: rgb(0\, 0\, 0)\;">If you are interested in or need assistance setting up your team - please reach out to <a fr-original-style="" href="mailto:Jennifer.Mullinax@ggar.com" style="user-select: auto\; color: inherit\;">Jennifer.Mullinax@ggar.com</a>.</span></p><p><span style="color: rgb(0\, 0\, 0)\;"><span style="caret-color: rgb(255\, 255\, 255)\; --Ys-XuQ: none\; font-weight: 400\; font-style: normal\; font-kerning: normal\;"><span style="caret-color: rgb(255\, 255\, 255)\; --Ys-XuQ: none\; font-weight: 400\; font-style: normal\; font-kerning: normal\;"><span style="caret-color: rgb(255\, 255\, 255)\; --Ys-XuQ: none\; font-weight: 400\; font-style: normal\; font-kerning: normal\;">All proceeds benefit ReBuild Upstate!&nbsp\;</span>&nbsp\;</span>&nbsp\;</span></span></p><p><span style="color: rgb(0\, 0\, 0)\; caret-color: rgb(255\, 255\, 255)\; --Ys-XuQ: none\; font-weight: 400\; font-style: normal\; font-kerning: normal\;"><span style="caret-color: rgb(255\, 255\, 255)\; --Ys-XuQ: none\; font-weight: 400\; font-style: normal\; font-kerning: normal\;">&ldquo\;Returning dignity\, safety\, &amp\; stability to our neighbors through home preservation.&rdquo\;</span> </span></p></body></html>
LOCATION:50 Airpark Court Greenville SC 29607
UID:e.3170.1352262
SEQUENCE:3
DTSTAMP:20260423T134124Z
URL:https://greatergreenvilleassociationofrealtors.growthzoneapp.com/association-events/Details/battle-of-the-brokerages-1590563?sourceTypeId=Hub
END:VEVENT
END:VCALENDAR
